BEGIN:VCALENDAR
VERSION:2.0
PRODID:-//Crown and Anchor Pub - ECPv6.15.15//NONSGML v1.0//EN
CALSCALE:GREGORIAN
METHOD:PUBLISH
X-WR-CALNAME:Crown and Anchor Pub
X-ORIGINAL-URL:https://crownandanchorgp.ca
X-WR-CALDESC:Events for Crown and Anchor Pub
REFRESH-INTERVAL;VALUE=DURATION:PT1H
X-Robots-Tag:noindex
X-PUBLISHED-TTL:PT1H
BEGIN:VTIMEZONE
TZID:America/Edmonton
BEGIN:DAYLIGHT
TZOFFSETFROM:-0700
TZOFFSETTO:-0600
TZNAME:MDT
DTSTART:20240310T090000
END:DAYLIGHT
BEGIN:STANDARD
TZOFFSETFROM:-0600
TZOFFSETTO:-0700
TZNAME:MST
DTSTART:20241103T080000
END:STANDARD
BEGIN:DAYLIGHT
TZOFFSETFROM:-0700
TZOFFSETTO:-0600
TZNAME:MDT
DTSTART:20250309T090000
END:DAYLIGHT
BEGIN:STANDARD
TZOFFSETFROM:-0600
TZOFFSETTO:-0700
TZNAME:MST
DTSTART:20251102T080000
END:STANDARD
BEGIN:DAYLIGHT
TZOFFSETFROM:-0700
TZOFFSETTO:-0600
TZNAME:MDT
DTSTART:20260308T090000
END:DAYLIGHT
BEGIN:STANDARD
TZOFFSETFROM:-0600
TZOFFSETTO:-0700
TZNAME:MST
DTSTART:20261101T080000
END:STANDARD
END:VTIMEZONE
BEGIN:VEVENT
DTSTART;TZID=America/Edmonton:20250402T180000
DTEND;TZID=America/Edmonton:20250402T210000
DTSTAMP:20260422T181052
CREATED:20250212T195529Z
LAST-MODIFIED:20250212T195529Z
UID:2233-1743616800-1743627600@crownandanchorgp.ca
SUMMARY:Elevated Dinners
DESCRIPTION:
URL:https://crownandanchorgp.ca/event/elevated-dinners/
ATTACH;FMTTYPE=image/jpeg:https://crownandanchorgp.ca/wp-content/uploads/2025/02/April-Dinner.jpg
END:VEVENT
BEGIN:VEVENT
DTSTART;TZID=America/Edmonton:20250408T080000
DTEND;TZID=America/Edmonton:20250517T170000
DTSTAMP:20260422T181052
CREATED:20250401T185212Z
LAST-MODIFIED:20250401T185212Z
UID:2250-1744099200-1747501200@crownandanchorgp.ca
SUMMARY:Spring Menu
DESCRIPTION:
URL:https://crownandanchorgp.ca/event/spring-menu-2/
ATTACH;FMTTYPE=image/jpeg:https://crownandanchorgp.ca/wp-content/uploads/2025/04/Copy-of-Winter-Menu-2025.jpeg
END:VEVENT
BEGIN:VEVENT
DTSTART;TZID=America/Edmonton:20250430T180000
DTEND;TZID=America/Edmonton:20250430T210000
DTSTAMP:20260422T181052
CREATED:20250324T202248Z
LAST-MODIFIED:20250324T202248Z
UID:2245-1746036000-1746046800@crownandanchorgp.ca
SUMMARY:Wine Tasting
DESCRIPTION:
URL:https://crownandanchorgp.ca/event/wine-tasting/
ATTACH;FMTTYPE=image/jpeg:https://crownandanchorgp.ca/wp-content/uploads/2025/03/Wine-Tasting.jpg
END:VEVENT
END:VCALENDAR