BEGIN:VCALENDAR
VERSION:2.0
PRODID:-//Crown and Anchor Pub - ECPv6.15.15//NONSGML v1.0//EN
CALSCALE:GREGORIAN
METHOD:PUBLISH
X-ORIGINAL-URL:https://crownandanchorgp.ca
X-WR-CALDESC:Events for Crown and Anchor Pub
REFRESH-INTERVAL;VALUE=DURATION:PT1H
X-Robots-Tag:noindex
X-PUBLISHED-TTL:PT1H
BEGIN:VTIMEZONE
TZID:America/Edmonton
BEGIN:DAYLIGHT
TZOFFSETFROM:-0700
TZOFFSETTO:-0600
TZNAME:MDT
DTSTART:20230312T090000
END:DAYLIGHT
BEGIN:STANDARD
TZOFFSETFROM:-0600
TZOFFSETTO:-0700
TZNAME:MST
DTSTART:20231105T080000
END:STANDARD
BEGIN:DAYLIGHT
TZOFFSETFROM:-0700
TZOFFSETTO:-0600
TZNAME:MDT
DTSTART:20240310T090000
END:DAYLIGHT
BEGIN:STANDARD
TZOFFSETFROM:-0600
TZOFFSETTO:-0700
TZNAME:MST
DTSTART:20241103T080000
END:STANDARD
BEGIN:DAYLIGHT
TZOFFSETFROM:-0700
TZOFFSETTO:-0600
TZNAME:MDT
DTSTART:20250309T090000
END:DAYLIGHT
BEGIN:STANDARD
TZOFFSETFROM:-0600
TZOFFSETTO:-0700
TZNAME:MST
DTSTART:20251102T080000
END:STANDARD
END:VTIMEZONE
BEGIN:VTIMEZONE
TZID:UTC
BEGIN:STANDARD
TZOFFSETFROM:+0000
TZOFFSETTO:+0000
TZNAME:UTC
DTSTART:20230101T000000
END:STANDARD
END:VTIMEZONE
BEGIN:VEVENT
DTSTART;VALUE=DATE:20240403
DTEND;VALUE=DATE:20240604
DTSTAMP:20260421T200040
CREATED:20240327T170221Z
LAST-MODIFIED:20240604T153720Z
UID:1943-1712102400-1717459199@crownandanchorgp.ca
SUMMARY:Spring Menu
DESCRIPTION:
URL:https://crownandanchorgp.ca/event/spring-menu/
ATTACH;FMTTYPE=image/jpeg:https://crownandanchorgp.ca/wp-content/uploads/2024/03/Spring-menu-pic.jpg
END:VEVENT
BEGIN:VEVENT
DTSTART;VALUE=DATE:20240424
DTEND;VALUE=DATE:20240425
DTSTAMP:20260421T200040
CREATED:20240209T214848Z
LAST-MODIFIED:20240327T201519Z
UID:1909-1713916800-1714003199@crownandanchorgp.ca
SUMMARY:Flavors of  the World
DESCRIPTION:This month is Barbecue.
URL:https://crownandanchorgp.ca/event/flavors-of-the-world/
ATTACH;FMTTYPE=image/jpeg:https://crownandanchorgp.ca/wp-content/uploads/2024/02/texas-bbq.jpg
END:VEVENT
END:VCALENDAR