BEGIN:VCALENDAR
VERSION:2.0
PRODID:-//Crown and Anchor Pub - ECPv6.15.15//NONSGML v1.0//EN
CALSCALE:GREGORIAN
METHOD:PUBLISH
X-ORIGINAL-URL:https://crownandanchorgp.ca
X-WR-CALDESC:Events for Crown and Anchor Pub
REFRESH-INTERVAL;VALUE=DURATION:PT1H
X-Robots-Tag:noindex
X-PUBLISHED-TTL:PT1H
BEGIN:VTIMEZONE
TZID:UTC
BEGIN:STANDARD
TZOFFSETFROM:+0000
TZOFFSETTO:+0000
TZNAME:UTC
DTSTART:20220101T000000
END:STANDARD
END:VTIMEZONE
BEGIN:VEVENT
DTSTART;TZID=UTC:20230927T180000
DTEND;TZID=UTC:20230927T235900
DTSTAMP:20260421T093853
CREATED:20230712T001114Z
LAST-MODIFIED:20230825T195709Z
UID:1612-1695837600-1695859140@crownandanchorgp.ca
SUMMARY:Korean dinner & drinks
DESCRIPTION:
URL:https://crownandanchorgp.ca/event/korean-dinner-drinks/
ATTACH;FMTTYPE=image/jpeg:https://crownandanchorgp.ca/wp-content/uploads/2023/07/korean.jpg
END:VEVENT
END:VCALENDAR