BEGIN:VCALENDAR
VERSION:2.0
PRODID:-//Crown and Anchor Pub - ECPv6.15.15//NONSGML v1.0//EN
CALSCALE:GREGORIAN
METHOD:PUBLISH
X-ORIGINAL-URL:https://crownandanchorgp.ca
X-WR-CALDESC:Events for Crown and Anchor Pub
REFRESH-INTERVAL;VALUE=DURATION:PT1H
X-Robots-Tag:noindex
X-PUBLISHED-TTL:PT1H
BEGIN:VTIMEZONE
TZID:UTC
BEGIN:STANDARD
TZOFFSETFROM:+0000
TZOFFSETTO:+0000
TZNAME:UTC
DTSTART:20230101T000000
END:STANDARD
END:VTIMEZONE
BEGIN:VEVENT
DTSTART;VALUE=DATE:20240131
DTEND;VALUE=DATE:20240201
DTSTAMP:20260421T164928
CREATED:20231227T212038Z
LAST-MODIFIED:20231227T224004Z
UID:1862-1706659200-1706745599@crownandanchorgp.ca
SUMMARY:Taste of Europe
DESCRIPTION:Popular   ” Flavors of the World  Dinner” \nThe tastes of Europe \nReserve early
URL:https://crownandanchorgp.ca/event/taste-of-europe/
ATTACH;FMTTYPE=image/jpeg:https://crownandanchorgp.ca/wp-content/uploads/2023/12/Taste-of-europe-pic.jpg
END:VEVENT
END:VCALENDAR