BEGIN:VCALENDAR
VERSION:2.0
PRODID:-//Crown and Anchor Pub - ECPv6.15.15//NONSGML v1.0//EN
CALSCALE:GREGORIAN
METHOD:PUBLISH
X-ORIGINAL-URL:https://crownandanchorgp.ca
X-WR-CALDESC:Events for Crown and Anchor Pub
REFRESH-INTERVAL;VALUE=DURATION:PT1H
X-Robots-Tag:noindex
X-PUBLISHED-TTL:PT1H
BEGIN:VTIMEZONE
TZID:UTC
BEGIN:STANDARD
TZOFFSETFROM:+0000
TZOFFSETTO:+0000
TZNAME:UTC
DTSTART:20230101T000000
END:STANDARD
END:VTIMEZONE
BEGIN:VEVENT
DTSTART;VALUE=DATE:20240115
DTEND;VALUE=DATE:20240116
DTSTAMP:20260421T164926
CREATED:20231227T223859Z
LAST-MODIFIED:20231229T213637Z
UID:1865-1705276800-1705363199@crownandanchorgp.ca
SUMMARY:New winter additions menu launch
DESCRIPTION:See what Kevin has cooked up for you!
URL:https://crownandanchorgp.ca/event/new-winter-additions-menu-launch/
ATTACH;FMTTYPE=image/jpeg:https://crownandanchorgp.ca/wp-content/uploads/2023/12/winter-menu.jpg
END:VEVENT
END:VCALENDAR