BEGIN:VCALENDAR
VERSION:2.0
PRODID:-//Crown and Anchor Pub - ECPv6.15.15//NONSGML v1.0//EN
CALSCALE:GREGORIAN
METHOD:PUBLISH
X-ORIGINAL-URL:https://crownandanchorgp.ca
X-WR-CALDESC:Events for Crown and Anchor Pub
REFRESH-INTERVAL;VALUE=DURATION:PT1H
X-Robots-Tag:noindex
X-PUBLISHED-TTL:PT1H
BEGIN:VTIMEZONE
TZID:UTC
BEGIN:STANDARD
TZOFFSETFROM:+0000
TZOFFSETTO:+0000
TZNAME:UTC
DTSTART:20220101T000000
END:STANDARD
END:VTIMEZONE
BEGIN:VEVENT
DTSTART;VALUE=DATE:20231025
DTEND;VALUE=DATE:20231026
DTSTAMP:20260421T122448
CREATED:20230828T195856Z
LAST-MODIFIED:20231012T222952Z
UID:1639-1698192000-1698278399@crownandanchorgp.ca
SUMMARY:Flavours from around the world
DESCRIPTION:
URL:https://crownandanchorgp.ca/event/flavours-from-around-the-world/
ATTACH;FMTTYPE=image/jpeg:https://crownandanchorgp.ca/wp-content/uploads/2023/08/classic-diner-img.jpg
END:VEVENT
END:VCALENDAR